BEGIN:VCALENDAR
VERSION:2.0
PRODID:-//wp-events-plugin.com//7.2.3.1//EN
TZID:Europe/London
X-WR-TIMEZONE:Europe/London
BEGIN:VEVENT
UID:5@therodolfusfoundation.org.uk
DTSTART;TZID=Europe/London:20260409T170000
DTEND;TZID=Europe/London:20260409T180000
DTSTAMP:20260314T181941Z
URL:https://therodolfusfoundation.org.uk/events/rodolfus-choir-evensong/
SUMMARY:Rodolfus Choir Evensong
DESCRIPTION:The Rodolfus Choir is privileged to sing evensong in the stunni
 ng setting of Westminster Abbey.\n\nJoanna Forbes L'Estrange - Preces and 
 Responses\nPsalm 106\, vv. 1-14\, 43-end\nJonathan Dove - St John's Servic
 e\nCecilia McDowall - I know that my Redeemer liveth\n\nConductors - Ralph
  Allwood MBE &amp\; Peter Davis\n\nEvensong Westminster Abbey
ATTACH;FMTTYPE=image/jpeg:https://therodolfusfoundation.org.uk/wp-content/
 uploads/How-to-Visit-Westminster-Abbey.webp
LOCATION:https://maps.app.goo.gl/hacN2ZrfLo4HtsBV7
END:VEVENT
BEGIN:VTIMEZONE
TZID:Europe/London
X-LIC-LOCATION:Europe/London
BEGIN:DAYLIGHT
DTSTART:20260329T020000
TZOFFSETFROM:+0000
TZOFFSETTO:+0100
TZNAME:BST
END:DAYLIGHT
END:VTIMEZONE
END:VCALENDAR