BEGIN:VCALENDAR
VERSION:2.0
PRODID:-//wp-events-plugin.com//7.2.3.1//EN
TZID:Europe/London
X-WR-TIMEZONE:Europe/London
BEGIN:VEVENT
UID:6@therodolfusfoundation.org.uk
DTSTART;TZID=Europe/London:20260410T190000
DTEND;TZID=Europe/London:20260410T203000
DTSTAMP:20260314T182429Z
URL:https://therodolfusfoundation.org.uk/events/rodolfus-choir-concert-rec
 ording-launch/
SUMMARY:Rodolfus Choir Concert: Hymn to St Cecilia
DESCRIPTION:The celebrated Rodolfus Choir is delighted to conclude their Ea
 ster project with an inspiring concert of music by composers celebrating m
 ajor anniversaries in 2026. From the vibrant Renaissance music of Thomas W
 eelkes (Hosanna to the Son of David &amp\; When David heard) to stunning
  choral works by Benjamin Britten (Hymn to St Cecilia &amp\; A Hymn to t
 he Virgin)\, the choir will also perform popular works by Pierre Villette 
 and Charles Wood. The choir will particularly celebrate the music of Cecil
 ia McDowall in her 75th year\, performing some of her sacred and secular w
 orks prior to a post-concert reception to mark the release of the choir's 
 new recording of her music\, A Tree is a Song\, on this date.\n\nTickets :
  £18\, £12 (under 18s) available from Ticketsource\n\nSt Mark's Church R
 egent's Park
ATTACH;FMTTYPE=image/jpeg:https://therodolfusfoundation.org.uk/wp-content/
 uploads/Rodolfus-Concert-April-2026-A5_page-0001-1.jpg
LOCATION:https://maps.app.goo.gl/XCkoHMkWGcuvw1fa8
END:VEVENT
BEGIN:VTIMEZONE
TZID:Europe/London
X-LIC-LOCATION:Europe/London
BEGIN:DAYLIGHT
DTSTART:20260329T020000
TZOFFSETFROM:+0000
TZOFFSETTO:+0100
TZNAME:BST
END:DAYLIGHT
END:VTIMEZONE
END:VCALENDAR