BEGIN:VCALENDAR
VERSION:2.0
PRODID:-//wp-events-plugin.com//7.2.3.1//EN
TZID:Europe/London
X-WR-TIMEZONE:Europe/London
BEGIN:VEVENT
UID:7@therodolfusfoundation.org.uk
DTSTART;TZID=Europe/London:20260411T171500
DTEND;TZID=Europe/London:20260411T180000
DTSTAMP:20260314T182508Z
URL:https://therodolfusfoundation.org.uk/events/evensong-at-st-georges-cha
 pel-windsor-sung-by-the-adult-choral-weekend-choir/
SUMMARY:Evensong at St George's Chapel\, Windsor (sung by the Adult Choral 
 Weekend choir)
DESCRIPTION:Services and FAQ's - College of St George\n\nMusic to include:\
 nSchubert (arr. Allwood) - Litanei: Auf das Fest alle Seelen\nReading - Pr
 eces &amp\; Responses\nHowells - Magnificat &amp\; Nunc Dimittis Collegium
  Regale\nBoyle - Thou\, O God\, art praised in Sion
ATTACH;FMTTYPE=image/jpeg:https://therodolfusfoundation.org.uk/wp-content/
 uploads/St-Georges-Chapel-Castle-Windsor.jpg
LOCATION:https://maps.app.goo.gl/fzoHSawU921k1y5s8
END:VEVENT
BEGIN:VTIMEZONE
TZID:Europe/London
X-LIC-LOCATION:Europe/London
BEGIN:DAYLIGHT
DTSTART:20260329T020000
TZOFFSETFROM:+0000
TZOFFSETTO:+0100
TZNAME:BST
END:DAYLIGHT
END:VTIMEZONE
END:VCALENDAR