BEGIN:VCALENDAR
VERSION:2.0
PRODID:-//wp-events-plugin.com//7.2.3.1//EN
TZID:Europe/London
X-WR-TIMEZONE:Europe/London
BEGIN:VEVENT
UID:8@therodolfusfoundation.org.uk
DTSTART;TZID=Europe/London:20260412T170000
DTEND;TZID=Europe/London:20260412T181500
DTSTAMP:20260317T090825Z
URL:https://therodolfusfoundation.org.uk/events/adult-choral-weekend-conce
 rt/
SUMMARY:Adult Choral Weekend Concert
DESCRIPTION:Holy Trinity Sloane Square | Upper Chelsea\, London\n\nMusic to
  include:\nHaydn - Missa in angustiis (Nelson Mass)\nBoyle - Thou\, O God\
 , art praised in Sion\nBrahms - Geistliches Lied\n\nThe singers of the Rod
 olfus Adult Choral Weekend course perform Haydn's celebrated Nelson Mass\,
  with chamber orchestra and organ accompaniment. Described by the biograph
 er H C Robbins Landon as "arguably Haydn's greatest single composition"\, 
 our singers promise to uplift you with a glorious programme of music in th
 e stunning setting of Holy Trinity Sloane Square.\n\nConductor - Ralph All
 wood\nOrgan - Peter Davis\n\nNO TICKETS REQUIRED FOR THIS CONCERT. ALL ARE
  WELCOME.
ATTACH;FMTTYPE=image/jpeg:https://therodolfusfoundation.org.uk/wp-content/
 uploads/Holy-Trinity-Church-Sloan-st-London.webp
LOCATION:https://maps.app.goo.gl/nMnj4w2bCqkavma16
END:VEVENT
BEGIN:VTIMEZONE
TZID:Europe/London
X-LIC-LOCATION:Europe/London
BEGIN:DAYLIGHT
DTSTART:20260329T020000
TZOFFSETFROM:+0000
TZOFFSETTO:+0100
TZNAME:BST
END:DAYLIGHT
END:VTIMEZONE
END:VCALENDAR